BEGIN:VCALENDAR
VERSION:2.0
PRODID:-//The Junior Academy - ECPv5.3.0//NONSGML v1.0//EN
CALSCALE:GREGORIAN
METHOD:PUBLISH
X-WR-CALNAME:The Junior Academy
X-ORIGINAL-URL:https://www.livingmontessori.com.my
X-WR-CALDESC:Events for The Junior Academy
BEGIN:VTIMEZONE
TZID:Asia/Kuala_Lumpur
BEGIN:STANDARD
TZOFFSETFROM:+0800
TZOFFSETTO:+0800
TZNAME:+08
DTSTART:20130101T000000
END:STANDARD
END:VTIMEZONE
BEGIN:VEVENT
DTSTART;TZID=Asia/Kuala_Lumpur:20131118T093000
DTEND;TZID=Asia/Kuala_Lumpur:20131122T123000
DTSTAMP:20260426T003601
CREATED:20160114T103701Z
LAST-MODIFIED:20160114T142436Z
UID:3310-1384767000-1385123400@www.livingmontessori.com.my
SUMMARY:Space - Got To Know Holiday Camps
DESCRIPTION:The Junior Academy presents to you ” Got to Know Holiday Camp ” a fun\, interactive 5-days camp for young learners ages 3 – 6 years old. Engage your child’s education\, explore the space beyond our world\, learn about stars and planets\, experience team work and friendship\, make new friends and so much more. Camp is available on 18 – 22 November 2013 from 9.30 a.m. to 12.30 p.m. \nLearning about science should never be boring. We will take you to the moons of Jupiter\, and explore the possibility of life on these distant worlds. Travel through the expanse of the universe and discover just how much SPACE there is in Space. And we will learn how modern day scientists are pushing the limits of space exploration. This can help children develop an appreciation for the galaxy and space travel. Children will learn about different stars and the various constellations they make up. Children will learn about the moon as well as how it feels like to travel as an astronaut to the moon. They will learn to recognize different planets in the solar system besides learning the importance of the sun in telling day and night. This camp helps to develop: \n-Communications skills\n-Reading skills\n-Art skills\n-Cognitive skills\n-Discover different planets and stars as well as how the sun and the moon affects us living on planet earth.\n\nChildren are curious and love to ask ” Why? ” The Exploration Stations and Discovery Stationsare two important components of this camp. The Exploration Stations allow children to experience a wide range of activities at their own pace\, while Discovery Corner activities engage children in exciting group projects to faster teamwork.Click here to view the camp’s Exploration and Discovery Stations. \nCamp is available on 18 – 22 November 2013 from 9.30 a.m. to 12.30 p.m.\nCall +603 2287 2888 to reserve your child’s placement today!\nCamp fee is RM 750 per week.
URL:https://www.livingmontessori.com.my/calendar/space-got-to-know-holiday-camps/
LOCATION:School\, L 01-07\, No 2\, Jalan Solaris 5\, Solaris Mont Kiara\, \, Kuala Lumpur\, 50480\, Malaysia
CATEGORIES:Past Events
ATTACH;FMTTYPE=image/jpeg:https://www.livingmontessori.com.my/wp-content/uploads/2016/01/space.jpg
ORGANIZER;CN="TJA":MAILTO:info@thejunioracademy.com.my
END:VEVENT
END:VCALENDAR