BEGIN:VCALENDAR
VERSION:2.0
PRODID:-//The Junior Academy - ECPv5.3.0//NONSGML v1.0//EN
CALSCALE:GREGORIAN
METHOD:PUBLISH
X-WR-CALNAME:The Junior Academy
X-ORIGINAL-URL:https://www.livingmontessori.com.my
X-WR-CALDESC:Events for The Junior Academy
BEGIN:VTIMEZONE
TZID:Asia/Kuala_Lumpur
BEGIN:STANDARD
TZOFFSETFROM:+0800
TZOFFSETTO:+0800
TZNAME:+08
DTSTART:20190101T000000
END:STANDARD
END:VTIMEZONE
BEGIN:VEVENT
DTSTART;TZID=Asia/Kuala_Lumpur:20190701T093000
DTEND;TZID=Asia/Kuala_Lumpur:20190705T123000
DTSTAMP:20260421T162830
CREATED:20190528T141510Z
LAST-MODIFIED:20191025T082734Z
UID:5501-1561973400-1562329800@www.livingmontessori.com.my
SUMMARY:JURASSIC PLANET
DESCRIPTION:Yes\, we are turning the clasroom into a Dinosaur World Museum! \nThe children are able to discover the prehistoric planet and explore the time when dinosaurs roamed the earth. \nWe welcome budding paleontologists to come discover prehistoric fun at our Jurassic Planet Camp! \nChildren will become palentologists for the week. They will have a chance to do “digs” to discover dinosaur bones and redesign their own dinosaur skeletons.They will also discover the world of dinosaur as they explore the fossils in the Dinosaur Dig and make their own fossils to take home. \nCampers will enjoy an interactive show that encourages hands-on exploration. An expert guide will lead children on a genuine fossil dig for more educational fun and adventure! \n  \n 
URL:https://www.livingmontessori.com.my/calendar/jurassic-planet-2/
CATEGORIES:Upcoming Events
ATTACH;FMTTYPE=image/jpeg:https://www.livingmontessori.com.my/wp-content/uploads/2019/06/WhatsApp-Image-2019-05-23-at-2.25.26-PM.jpeg
ORGANIZER;CN="TJA":MAILTO:info@thejunioracademy.com.my
END:VEVENT
END:VCALENDAR