BEGIN:VCALENDAR
VERSION:2.0
PRODID:-//The Junior Academy - ECPv5.3.0//NONSGML v1.0//EN
CALSCALE:GREGORIAN
METHOD:PUBLISH
X-WR-CALNAME:The Junior Academy
X-ORIGINAL-URL:https://www.livingmontessori.com.my
X-WR-CALDESC:Events for The Junior Academy
BEGIN:VTIMEZONE
TZID:Asia/Kuala_Lumpur
BEGIN:STANDARD
TZOFFSETFROM:+0800
TZOFFSETTO:+0800
TZNAME:+08
DTSTART:20130101T000000
END:STANDARD
END:VTIMEZONE
BEGIN:VEVENT
DTSTART;TZID=Asia/Kuala_Lumpur:20131125T093000
DTEND;TZID=Asia/Kuala_Lumpur:20131129T170000
DTSTAMP:20260425T232343
CREATED:20160114T102546Z
LAST-MODIFIED:20160114T142512Z
UID:3306-1385371800-1385744400@www.livingmontessori.com.my
SUMMARY:Creative Art - Got To Know Holiday Camps
DESCRIPTION:The Junior Academy presents to you ” Got to Know Holiday Camp ” a fun\, interactive 5-days camp for young learners ages 3 – 6 years old. Engage your child’s education\, explore the world of Creative Arts\, learn about batik painting and different forms of art\, experience team work and friendship\, make new friends and so much more. Camp is available on 25 – 29 November 2013 from 9.30 a.m. to 12.30 p.m. \nChildren express themselves through art on a fundamental level. Sometimes their artwork is the manifestation of that expression\, but more often\, the physical process of creating is the expression. Where art is concerned\, it is the process of creating — exploring\, discovering\, and experimenting — that has the greatest value. Through self-expression and creativity\, children’s skills will develop naturally\, and their ability to create will soar. This camp on creative arts will acquaint children with some basics of drawing and painting . Children will learn about batik painting as well as different forms of art. They will learn to recognize different kinds of colors and materials that they can use to create beautiful works of art. Besides this\, the children will be exposed to famous artists and the cultures behind the different arts they make. On the last day of the camp\, we will set up a mini “art gallery” for parents to view and admire their children’s art creations. This camp helps to develop:\n\n– Communications skills\n– Language skills\n– Art skills\n– Cognitive skills\n– Discover different kinds of materials that can be wielded to form works of art that is both exquisite and one of a kind.\n\nChildren are curious and love to ask ” Why? ” The Exploration Stations and Discovery Stationsare two important components of this camp. The Exploration Stations allow children to experience a wide range of activities at their own pace\, while Discovery Corner activities engage children in exciting group projects to foster teamwork. Click here to view the camp’s Exploration and Discovery Stations. \nCamp is available on 25 – 29 November 2013 from 9.30 a.m. to 12.30 p.m.\nCall +603 2287 2888 to reserve your child’s placement today!\nCamp fee is RM 750 per week.
URL:https://www.livingmontessori.com.my/calendar/creative-art-got-to-know-holiday-camps/
LOCATION:School\, L 01-07\, No 2\, Jalan Solaris 5\, Solaris Mont Kiara\, \, Kuala Lumpur\, 50480\, Malaysia
CATEGORIES:Past Events
ATTACH;FMTTYPE=image/jpeg:https://www.livingmontessori.com.my/wp-content/uploads/2016/01/creative-art.jpg
ORGANIZER;CN="TJA":MAILTO:info@thejunioracademy.com.my
END:VEVENT
END:VCALENDAR