BEGIN:VCALENDAR
VERSION:2.0
PRODID:-//The Junior Academy - ECPv5.3.0//NONSGML v1.0//EN
CALSCALE:GREGORIAN
METHOD:PUBLISH
X-WR-CALNAME:The Junior Academy
X-ORIGINAL-URL:https://www.livingmontessori.com.my
X-WR-CALDESC:Events for The Junior Academy
BEGIN:VTIMEZONE
TZID:Asia/Kuala_Lumpur
BEGIN:STANDARD
TZOFFSETFROM:+0800
TZOFFSETTO:+0800
TZNAME:+08
DTSTART:20170101T000000
END:STANDARD
END:VTIMEZONE
BEGIN:VEVENT
DTSTART;VALUE=DATE:20170709
DTEND;VALUE=DATE:20180714
DTSTAMP:20260421T123429
CREATED:20180622T135727Z
LAST-MODIFIED:20181203T035723Z
UID:5188-1499558400-1531526399@www.livingmontessori.com.my
SUMMARY:Earth Scientist - Got To Know Holiday Camps
DESCRIPTION:Children are our future – if anyone is going to make a difference and start new ways of protecting the earth\, it’s them! The earth is such a precious and beautiful planet. Kids today need to have an appreciation of our natural environment before they can take care of it. Though environmental issues are complicated\, planting the seed while our children are young will give them a framework to comprehend more as they grow. This camp has a variety of amazing fun activities that centres around learning about the sun\, air\, water\, land and living things. Children get to study and explore the earth systems\, water cycle\, weather science\, waste management as well as energy conservation. There are recyclables game\, dance with the weather  movement songs and many more exciting hands on activities. \nEducation Objectives:- \n> Language skills                         > Communication/Socialization Skills \n> Numeracy Skills                       > Music & Movement \n> Gross motor skills                    > Independent & Problem Solving Skills \n\n                                                                        > Sensorial Fine Motor Skills \n\nDATE:9 – 13 July   TIME: 930 am – 1230 pm \nClick here to make a reservation now!
URL:https://www.livingmontessori.com.my/calendar/earth-scientist-got-to-know-holiday-camps-2/
LOCATION:School\, L 01-07\, No 2\, Jalan Solaris 5\, Solaris Mont Kiara\, \, Kuala Lumpur\, 50480\, Malaysia
CATEGORIES:Past Events
ATTACH;FMTTYPE=image/jpeg:https://www.livingmontessori.com.my/wp-content/uploads/2016/01/The-Earth-Scientist-2018-EmailWeb.jpg
ORGANIZER;CN="TJA":MAILTO:info@thejunioracademy.com.my
END:VEVENT
END:VCALENDAR