BEGIN:VCALENDAR
VERSION:2.0
PRODID:-//The Junior Academy - ECPv5.3.0//NONSGML v1.0//EN
CALSCALE:GREGORIAN
METHOD:PUBLISH
X-WR-CALNAME:The Junior Academy
X-ORIGINAL-URL:https://www.livingmontessori.com.my
X-WR-CALDESC:Events for The Junior Academy
BEGIN:VTIMEZONE
TZID:Asia/Kuala_Lumpur
BEGIN:STANDARD
TZOFFSETFROM:+0800
TZOFFSETTO:+0800
TZNAME:+08
DTSTART:20170101T000000
END:STANDARD
END:VTIMEZONE
BEGIN:VEVENT
DTSTART;VALUE=DATE:20170702
DTEND;VALUE=DATE:20180707
DTSTAMP:20260423T215504
CREATED:20180622T135124Z
LAST-MODIFIED:20181203T034641Z
UID:5184-1498953600-1530921599@www.livingmontessori.com.my
SUMMARY:Under The Sea - Got To Know Holiday Camps
DESCRIPTION:For our Under The Sea holiday camp\, the children are going to study about shells\, ocean animals and the beach. From the science table\, to the art corner\, inside the sensory bin\, on top of the light table\, and in the books we read! We will be having some fun activities for the children to explore about the ocean zones and allow them to ‘dive’ in the deep ocean and see what’s under our beautiful ocean world! Aside from that\, the children also get the chance to learn about different types of ocean animals in more detail\, explore a variety of seashells\, corals\, and sea creatures! The children will also go fishing in the ‘ocean’ and take a little fish home. Join us now and be amazed and travel to the last frontier of the earth.  The oceans form about 70% of our planet. Let’s be an ocean explorer and have fun together discovering it. \nEducational Objectives: \n> Communication skills             > Reading Skills \n> Numeracy Skills                       > Music & Movement \n\nGross motor skills                    > Sensorial Fine Motor Skills \n\nDATE:  2 – 6 July  TIME: 930 am – 1230 pm \nClick here to make a reservation now!
URL:https://www.livingmontessori.com.my/calendar/under-the-sea-got-to-know-holiday-camps-2/
LOCATION:School\, L 01-07\, No 2\, Jalan Solaris 5\, Solaris Mont Kiara\, \, Kuala Lumpur\, 50480\, Malaysia
CATEGORIES:Past Events
ATTACH;FMTTYPE=image/jpeg:https://www.livingmontessori.com.my/wp-content/uploads/2016/01/Image-1.jpg
ORGANIZER;CN="TJA":MAILTO:info@thejunioracademy.com.my
END:VEVENT
BEGIN:VEVENT
DTSTART;VALUE=DATE:20170703
DTEND;VALUE=DATE:20170708
DTSTAMP:20260423T215504
CREATED:20151218T082001Z
LAST-MODIFIED:20191025T081732Z
UID:2721-1499040000-1499471999@www.livingmontessori.com.my
SUMMARY:Space Camp - Got To Know Holiday Camps
DESCRIPTION:  \nLearn about our universe in a different way. This camp will focus on spacecraft\, the solar system\, and the beauty of our galaxy. The children will know the different names of each universe\, marvellous planets and also learn about astronauts. They will be exposed to different tools & gadgets used by astronauts and the unique shapes of each planet through arts & craft\, The child will also experience space in the closest way as they enter the galaxy that is filled with surprises every day! \nEducational Objectives: \n> Communication skills             > Reading Skills \n> Numeracy Skills                       > Music & Movement \n\nGross motor skills                    > Sensorial Fine Motor Skills \n\nDATE: 3rd – 7th July   TIME: 930 am – 1230 pm    FEE: RM 880 \nClick here to make a reservation now!
URL:https://www.livingmontessori.com.my/calendar/space-camp-got-to-know-holiday-camps/
LOCATION:School\, L 01-07\, No 2\, Jalan Solaris 5\, Solaris Mont Kiara\, \, Kuala Lumpur\, 50480\, Malaysia
CATEGORIES:Past Events
ATTACH;FMTTYPE=image/jpeg:https://www.livingmontessori.com.my/wp-content/uploads/2017/05/Holidays-Camp-A3-Space-poster140417-01.jpg
ORGANIZER;CN="TJA":MAILTO:info@thejunioracademy.com.my
END:VEVENT
END:VCALENDAR